0.00000000000000
0.09000000000000
0.09000000000000
-0.00000000000000
695219.93404113175000
253656.10380796439000
