0.00000000000000
0.09000000000000
0.09000000000000
-0.00000000000000
695235.93404113175000
255528.10380796439000
