0.00000000000000
0.09000000000000
0.09000000000000
-0.00000000000000
695233.93404113175000
260374.10380796439000
