0.00000000000000
0.09000000000000
0.09000000000000
-0.00000000000000
695219.93404113175000
265650.10380796442000
