0.00000000000000
0.09000000000000
0.09000000000000
-0.00000000000000
695207.93404113175000
269607.10380796442000
