0.00000000000000
0.09000000000000
0.09000000000000
-0.00000000000000
695209.93404113175000
271536.10380796442000
