0.00000000000000
0.09000000000000
0.09000000000000
-0.00000000000000
695207.93404113175000
275022.10380796442000
