-0.00000000000000
-0.09000000000000
-0.09000000000000
0.00000000000000
695823.06595886825000
254846.89619203561000
