-0.00000000000000
-0.09000000000000
-0.09000000000000
0.00000000000000
695834.06595886825000
278584.89619203558000
