0.00000000000000
0.09000000000000
0.09000000000000
-0.00000000000000
692959.93404113175000
251187.10380796439000
