0.00000000000000
0.09000000000000
0.09000000000000
-0.00000000000000
692979.93404113175000
253354.10380796439000
