0.00000000000000
0.09000000000000
0.09000000000000
-0.00000000000000
692973.93404113175000
258297.10380796439000
