0.00000000000000
0.09000000000000
0.09000000000000
-0.00000000000000
692957.93404113175000
268455.10380796442000
