0.00000000000000
0.09000000000000
0.09000000000000
-0.00000000000000
692951.93404113175000
269080.10380796442000
