0.00000000000000
0.09000000000000
0.09000000000000
-0.00000000000000
692981.93404113175000
277458.10380796442000
