-0.00000000000000
-0.09000000000000
-0.09000000000000
0.00000000000000
693624.06595886825000
255068.89619203561000
