-0.00000000000000
-0.09000000000000
-0.09000000000000
0.00000000000000
693616.06595886825000
265634.89619203558000
