-0.00000000000000
-0.09000000000000
-0.09000000000000
0.00000000000000
693621.06595886825000
269160.89619203558000
