-0.00000000000000
-0.09000000000000
-0.09000000000000
0.00000000000000
693612.06595886825000
271393.89619203558000
