-0.00000000000000
-0.09000000000000
-0.09000000000000
0.00000000000000
693627.06595886825000
273622.89619203558000
