-0.00000000000000
-0.09000000000000
-0.09000000000000
0.00000000000000
693622.06595886825000
275112.89619203558000
