-0.00000000000000
-0.09000000000000
-0.09000000000000
0.00000000000000
693614.06595886825000
276623.89619203558000
