-0.00000000000000
-0.09000000000000
-0.09000000000000
0.00000000000000
693632.06595886825000
279186.89619203558000
