-0.00000000000000
-0.09000000000000
-0.09000000000000
0.00000000000000
693631.06595886825000
279763.89619203558000
