-0.00000000000000
-0.09000000000000
-0.09000000000000
0.00000000000000
693629.06595886825000
283136.89619203558000
