0.00000000000000
0.09000000000000
0.09000000000000
-0.00000000000000
690811.93404113175000
257579.10380796439000
