0.00000000000000
0.09000000000000
0.09000000000000
-0.00000000000000
690810.93404113175000
271640.10380796442000
