-0.00000000000000
-0.09000000000000
-0.09000000000000
0.00000000000000
691441.58678674349000
256324.59831412110000
