-0.00000000000000
-0.09000000000000
-0.09000000000000
0.00000000000000
691428.58678674349000
258745.59831412110000
