-0.00000000000000
-0.09000000000000
-0.09000000000000
0.00000000000000
691425.58678674349000
261910.59831412110000
