-0.00000000000000
-0.09000000000000
-0.09000000000000
0.00000000000000
691422.58678674349000
263848.59831412107000
