-0.00000000000000
-0.09000000000000
-0.09000000000000
0.00000000000000
691405.58678674349000
270201.59831412107000
