-0.00000000000000
-0.09000000000000
-0.09000000000000
0.00000000000000
691402.58678674349000
271432.59831412107000
