-0.00000000000000
-0.09000000000000
-0.09000000000000
0.00000000000000
691422.58678674349000
274078.59831412107000
