-0.00000000000000
-0.09000000000000
-0.09000000000000
0.00000000000000
691415.58678674349000
280173.59831412107000
