-0.00000000000000
-0.09000000000000
-0.09000000000000
0.00000000000000
691408.58678674349000
280778.59831412107000
