-0.00000000000000
-0.09000000000000
-0.09000000000000
0.00000000000000
691412.58678674349000
281383.59831412107000
