-0.00000000000000
-0.09000000000000
-0.09000000000000
0.00000000000000
691418.58678674349000
284343.59831412107000
