0.00000000000000
0.09000000000000
0.09000000000000
-0.00000000000000
688637.41321325640000
255088.40168587890000
