0.00000000000000
0.09000000000000
0.09000000000000
-0.00000000000000
688629.41321325640000
259862.40168587890000
