0.00000000000000
0.09000000000000
0.09000000000000
-0.00000000000000
688649.41321325640000
260954.40168587890000
