0.00000000000000
0.09000000000000
0.09000000000000
-0.00000000000000
688621.41321325640000
263176.40168587893000
