0.00000000000000
0.09000000000000
0.09000000000000
-0.00000000000000
688625.41321325640000
264331.40168587893000
