0.00000000000000
0.09000000000000
0.09000000000000
-0.00000000000000
688637.41321325640000
265490.40168587893000
