0.00000000000000
0.09000000000000
0.09000000000000
-0.00000000000000
688594.41321325640000
275233.40168587893000
