0.00000000000000
0.09000000000000
0.09000000000000
-0.00000000000000
688606.41321325640000
277293.40168587893000
