0.00000000000000
0.09000000000000
0.09000000000000
-0.00000000000000
688602.41321325640000
280627.40168587893000
