0.00000000000000
0.09000000000000
0.09000000000000
-0.00000000000000
688614.41321325640000
283092.40168587893000
