-0.00000000000000
-0.09000000000000
-0.09000000000000
0.00000000000000
689257.58678674349000
256230.59831412110000
