-0.00000000000000
-0.09000000000000
-0.09000000000000
0.00000000000000
689233.58678674349000
260455.59831412110000
